BEGIN:VCALENDAR
VERSION:2.0
PRODID:-//El Celler d&#039;en Xiqui
CALSCALE:GREGORIAN
METHOD:PUBLISH
X-WR-CALNAME:El Celler d&#039;en Xiqui
X-ORIGINAL-URL:https://www.elcellerdenxiqui.cat/botiga/tast-i-presentacio-cervesa-bdegust-beer/
X-WR-CALDESC:Tast i Presentació Cervesa BdeGust Beer
BEGIN:VEVENT
DTSTART;TZID=Europe/Paris:20250306T190000
DTEND;TZID=Europe/Paris:20250306T203000
SUMMARY:Tast i Presentació Cervesa BdeGust Beer
DESCRIPTION:6 de Març del 2025 a les 19h El dijous dia 6 de Març del 2025 a les 19h a la sala de tast de El Celler d'en Xiqui. Places limitades.
URL:https://www.elcellerdenxiqui.cat/botiga/tast-i-presentacio-cervesa-bdegust-beer/
LOCATION:Plaça Sant Pere, 2 (Girona)
END:VEVENT
END:VCALENDAR
